BEGIN:VCALENDAR
VERSION:2.0
PRODID:ADNA Events System
X-WR-TIMEZONE:America/Edmonton
BEGIN:VTIMEZONE
TZID:America/Edmonton
X-LIC-LOCATION:America/Edmonton
BEGIN:DAYLIGHT
TZOFFSETFROM:-0600
TZOFFSETTO:-0600
DTSTART:19810329T020000
RRULE:FREQ=YEARLY;INTERVAL=1;BYMONTH=3;BYDAY=-1SU
END:DAYLIGHT
END:VTIMEZONE
BEGIN:VEVENT
UID:69e917213a74f
DTSTART;TZID=America/Edmonton:20230701T000000
SEQUENCE:0
TRANSP:OPAQUE
DTEND;TZID=America/Edmonton:20240630T235900
URL:https://ibaa.ca/events/events-calendar.html/event-info/details/id/51
SUMMARY:Broker 101 - Web Series
CLASS:PUBLIC
DESCRIPTION:\n\nhttps://ibaa.ca/events/events-calendar.html/event-info/deta
 ils/id/51
X-ALT-DESC;FMTTYPE=text/html:<p><strong>Price:&nbsp\;</strong>Member: $500/
 Non-Member: $700</p>\n\n<p>Broker 101 is the next step toward becoming a c
 onfident and capable insurance broker. Designed for new brokers who are al
 ready licensed or those looking to explore the industry\, this course cove
 rs the broker essentials that aren&rsquo\;t addressed during the licensing
  process. Course information is conveniently packaged into eight topic-spe
 cific modules so students can learn at their own pace. Broker 101 is entir
 ely online\, self-directed\, and available 24/7 through our learning manag
 ement system.</p>\n\n<p><a href=\"https://ibaa.ca/education/e-learning/bro
 ker-101.html\">Click here</a>&nbsp\;to learn more about this course.</p>\n
DTSTAMP:20260422T124449Z
END:VEVENT
END:VCALENDAR